BEGIN:VCALENDAR
VERSION:2.0
PRODID:-//InvisionCommunity Events 5.0.18//EN
METHOD:PUBLISH
CALSCALE:GREGORIAN
REFRESH-INTERVAL:PT15M
X-PUBLISHED-TTL:PT15M
X-WR-CALNAME:Events
NAME:Events
BEGIN:VTIMEZONE
TZID:Europe/London
TZURL:https://tzurl.org/zoneinfo/Europe/London
X-LIC-LOCATION:Europe/London
BEGIN:DAYLIGHT
TZOFFSETFROM:+0000
TZOFFSETTO:+0100
TZNAME:BST
DTSTART:20250330T020000Z
RRULE:FREQ=YEARLY;BYMONTH=3;BYDAY=-1SU
END:DAYLIGHT
BEGIN:STANDARD
TZOFFSETFROM:+0100
TZOFFSETTO:+0000
TZNAME:GMT
DTSTART:20251026T020000Z
RRULE:FREQ=YEARLY;BYMONTH=10;BYDAY=-1SU
END:STANDARD
END:VTIMEZONE
BEGIN:VEVENT
SUMMARY:GACE Elections & Voting Committee (Kickoff Meeting)
DTSTAMP:20250320T145802Z
SEQUENCE:0
UID:135-10-e4da6eda9e1470c81dc289933f27b1b9@forums.gaceonline.com
ORGANIZER;CN="Angel Gray":postmaster@gaceonline.com
ATTACH;FMTTYPE=application/pdf:https://us06web.zoom.us/j/89198564016?pwd=5OkShRgr4IL0qId4vJx16LvbCYlax6.1">https://us06web.zoom.us/j/89198564016?pwd=5OkShRgr4IL0qId4vJx16LvbCYlax6.1</a><br><br>Meeting ID: 891 9856 4016<br>Passcode: 461937<br><br>One tap mobile<br>+13017158592,,89198564016#,,,,*461937# US (Washington DC)<br>+13052241968,,89198564016#,,,,*461937# US<br><br><br></p><p><a class="ipsAttachLink" data-fileid="958" data-fileext="pdf" data-extension="pdf" href="https://forums.gaceonline.com/applications/core/interface/file/attachment.php?id=958
DESCRIPTION: ──────────\nGACE Elections &amp\; Voti
	ng Committee\nJoin Zoom Meeting\nhttps://us06web.zoom.us/j/89198564016?pwd
	=5OkShRgr4IL0qId4vJx16LvbCYlax6.1\n\nMeeting ID: 891 9856 4016\nPasscode: 
	461937\n\nOne tap mobile\n+13017158592\,\,89198564016#\,\,\,\,*461937# US 
	(Washington DC)\n+13052241968\,\,89198564016#\,\,\,\,*461937# US\n\n\nGACE
	 Election Committee (Temp Committee) 2025 (1).pdf
DTSTART:20250324T130000Z
DTEND:20250324T133000Z
END:VEVENT
END:VCALENDAR
